Workbook

Sheet RESCISÃO
AS2: =IF(AR6=1,(AS17),(0)) -> 0
AR3: =IF(AR5=1,(1),IF(AR5=2,(2),(IF(AR5=3,(1))))) -> 1 | AS3: =IF(AR6=3,(AS17),(0)) -> 0
BB4: 1 | BC4: (DOM) | BD4: 1 | BE4: 0
B5: PLANILHA DE SIMULAÇÃO DE RESCISÃO | AQ5: MOT | AR5: 1 | AS5: 1 | AT5: INDENIZADO | BB5: 2 | BC5: (SEG) | BD5: 2 | BE5: 0
AQ6: AP | AR6: 1 | AS6: 2 | AT6: TRABALHADO | BB6: 3 | BC6: (TER) | BD6: 3 | BE6: 0
AS7: 3 | AT7: Ñ TRABALHADO | BB7: 4 | BC7: (QUA) | BD7: 4 | BE7: 0
B8: EMPRESA.....: | AR8: =IF(AR6=2,(I17-30),(I17)) -> 0 | AS8: 1 | AT8: NÃO | BB8: 5 | BC8: (QUI) | BD8: 5 | BE8: 0
AS9: 2 | AT9: SIM | BB9: 6 | BC9: (SEX) | BD9: 6 | BE9: 3
B10: FUNCIONÁRIO.: | AT10: 2 | BB10: 7 | BC10: (SÁB) | BD10: 7 | BE10: 3
AR11: =IF(AR5=1,(1),(0)) -> 1 | AT11: =IF(AT12=1,(-1),(IF(AT12=7,(-1),(0)))) -> 0 | BA11: =WEEKDAY(AS13) -> 2 | BB11: =(BA11) -> 2 | BC11: =VLOOKUP(BB11,BB4:BC10,2,FALSE) -> (SEG) | BD11: 8 | BE11: 3
B12: MOTIVO......: | J12: DISPENSA DO EMPREGADO SEM JUSTA CAUSA | AR12: =IF(AR6=1,(1),(0)) -> 1 | AS12: =(I17) -> 0 | AT12: =WEEKDAY(AR14) -> 2 | BA12: =DAY(AS13) -> 9 | BB12: =IF(BA12<10,(CONCATENATE("0",BA12)),(BA12)) -> 09 | BD12: 9 | BE12: 3
AR13: =SUM(AR11:AR12) -> 2 | AS13: =(AR14+AT11) -> 9 | AT13: =(I17-B17) -> 0 | BA13: =MONTH(AS13) -> 1 | BB13: =IF(BA13<10,(CONCATENATE("0",BA13)),(BA13)) -> 01 | BD13: 10 | BE13: 3
B14: OBS: Os campos em laranja são de multipla escolha, basta marcar a opção correta. | AR14: =IF(AR6=2,(AS12+1),(AS12+9)) -> 9 | AT14: =(AT13/30) -> 0 | BA14: =YEAR(AS13) -> 1900 | BD14: 11 | BE14: 3
AS15: =MID(AT14,1,2) -> 0 | AT15: =VALUE(AS15) -> 0 | BA15: =DATE(BA14,BB13,BB12) -> 9 | BD15: 12 | BE15: 4
B16: ADMISSÃO | I16: DEMISSÃO | P16: REMUNERAÇÃO | W16: TOTAL DE MESES | AD16: AVISO PRÉVIO | AT16: =IF(AT15>25,(25),(AT15)) -> 0 | BA16: =MONTH(B17) -> 1 | BB16: =MONTH(I17) -> 1 | BD16: 13 | BE16: 4 | BJ16: RESCISAO | BK16: =L37 -> 0
W17: =DATEDIF(B17,I17,"M") -> 0 | AD17: TRABALHADO | AS17: =P17 -> 0 | BA17: =YEAR(B17) -> 1900 | BB17: =YEAR(I17) -> 1900 | BD17: 14 | BE17: 4 | BJ17: FGTS | BK17: =K45 -> 0
BA18: =CONCATENATE(BA16,BA17) -> 11900 | BB18: =CONCATENATE(BB16,BB17) -> 11900 | BD18: 15 | BE18: 4
B19: FÉRIAS VENCIDAS? | I19: % H.E. | M19: QUANTIDADE | T19: HORA EXTRA 100% | AA19: ATRASOS/FALTAS | AH19: DEPEND. | AR19: 1 | AS19: =(B17) -> 0 | AZ19: =(BB20-BA20) -> 0 | BA19: =IF(BA18=BB18,(2),(1)) -> 2 | BD19: 16 | BE19: 4
B20: NÃO | I20: 0.5 | M20: 0 | T20: 0 | AA20: 0 | AH20: 0 | AR20: 2 | AS20: =DATE(AS21,1,1) -> 1 | BA20: =DAY(B17) -> 0 | BB20: =DAY(I17) -> 0 | BD20: 17 | BE20: 4
AR21: =YEAR(B17) -> 1900 | AS21: =YEAR(I17) -> 1900 | AU21: =MONTH(I17) -> 1 | AV21: 30 | BD21: 18 | BE21: 4
B22: PROVENTOS | T22: DESCONTOS | AR22: =IF(AR21=AS21,(1),(2)) -> 1 | AS22: =VLOOKUP(AR22,AR19:AS20,2,FALSE) -> 0 | AU22: 1 | AV22: 31 | BB22: =IF(AQ23<BA23,(1),IF(AQ23<BA24,(2),(IF(AQ23<BA25,(3),(IF(AQ23<BA26,(4),(IF(AQ23>BA27,(5))))))))) -> 1 | BC22: =IF(AQ24<BA23,(1),IF(AQ24<BA24,(2),(IF(AQ24<BA25,(3),(IF(AQ24<BA26,(4),(IF(AQ24>BA27,(5))))))))) -> 1 | BD22: 19 | BE22: 4
B23: SALDO DE SALÁRIO | L23: =I17 - DATE(YEAR(I17), MONTH(I17), 1) + 1 -> 0 | O23: =ROUND((P17/30)*L23,2) -> 0 | T23: INSS S/ SALÁRIOS | AD23: =(BC29) -> 0.075 | AG23: =(AR23) -> 0 | AQ23: =SUM(O23,O31,O32,O34,O35) -> 0 | AR23: =IF(AQ23>BA27,(BA27*BC29),(AQ23*BC29)) -> 0 | AS23: =IF(BA19=2,(AZ19),(DAY(I17))) -> 0 | AU23: 2 | AV23: 28 | AZ23: 1 | BA23: =(TABELAS!D7) -> 1518.01 | BC23: =(TABELAS!H6) -> 0.075 | BD23: 20 | BE23: 4
B24: 13º SALÁRIO PROP. | L24: =IF(YEAR(B17)=YEAR(I17), MONTH(I17)-MONTH(B17)+IF(DAY(B17)<=15,1,0)+IF(DAY(I17)<=15,-1,0), IF(YEAR(B17)<YEAR(I17), MONTH(I17)+IF(DAY(I17)<=15,-1,0), 0 ) ) -> 0 | O24: =ROUND((P17/12*L24),2) -> 0 | T24: INSS S/ 13º SALÁRIO | AD24: =(BC30) -> 0.075 | AG24: =(AR24) -> 0 | AQ24: =SUM(O24:S26) -> 0 | AR24: =IF(AQ24>BA27,(BA27*BC30),(AQ24*BC30)) -> 0 | AS24: =IF(AS23<15,(1),(0)) -> 1 | AU24: 3 | AV24: 31 | AZ24: 2 | BA24: =(TABELAS!D8) -> 2793.89 | BC24: =(TABELAS!H7) -> 0.09 | BD24: 21 | BE24: 4
B25: 13º SAL. VARIÁVEL | L25: 0 | O25: 0 | T25: I.R.R.F. | AQ25: =AQ26-AG28 -> 0 | AR25: =MONTH(AS22) -> 1 | AS25: =(AU21-AS24) -> 0 | AU25: 4 | AV25: 30 | AZ25: 3 | BA25: =(TABELAS!D9) -> 4190.84 | BC25: =(TABELAS!H8) -> 0.12 | BD25: 22 | BE25: 4
B26: 13º SAL. INDENIZADO | L26: =IF(J12<>"DISPENSA DO EMPREGADO SEM JUSTA CAUSA", 0, IF(AD17="INDENIZADO", MIN(3, 1 + INT(L34/30)), MIN(3, INT(L34/30)))) -> 0 | O26: =ROUND((P17/12)*L26,2) -> 0 | T26: ADIANTAMENTOS | AD26: - | AG26: 0 | AQ26: =SUM(O23,O24,O25,O26,O27,O28,O29,O30,O32,O31,O34,O35) -> 0 | AS26: =(AS25-AR25)+1 -> 0 | AU26: 5 | AV26: 31 | AZ26: 4 | BA26: =(TABELAS!D10) -> 8157.42 | BC26: =(TABELAS!H9) -> 0.14 | BD26: 23 | BE26: 4
B27: FÉRIAS VENCIDAS | L27: =IF(B20="SIM",1,0) -> 0 | O27: =L27*P17 -> 0 | T27: AVISO PRÉVIO | AD27: =IF(AR3=2,(1),("-")) -> - | AG27: =IF(AD17="Ñ TRABALHADO", P17, "-") -> - | AQ27: =IF(AQ28<=15,(1),(VLOOKUP(AQ29,AU22:AV33,2,FALSE))) -> 1 | AR27: =DATE(AQ30,AQ29,AQ27) -> 1 | AS27: =DATE(AQ33-1,AQ34,AQ35) -> 693597 | AT27: =IF(AS27<365,(0),(1)) -> 1 | AU27: 6 | AV27: 30 | AZ27: 5 | BA27: =(TABELAS!D10)-0.01 -> 8157.41 | BC27: =BC26 -> 0.14 | BD27: 24 | BE27: 5
B28: FÉRIAS PROPORCIONAIS | L28: =MIN(11, INT((YEAR(I17)*12 + MONTH(I17)) - (YEAR(B17)*12 + MONTH(B17))) + IF(DAY(I17)>=15,1,0) - (QUOTIENT((INT((YEAR(I17)*12 + MONTH(I17)) - (YEAR(B17)*12 + MONTH(B17))) + IF(DAY(I17)>=15,1,0)),12)*12)) -> 0 | O28: =(ROUND(P17/12,2)*L28) -> 0 | T28: FALTAS/ATRASOS | AD28: =(AA20) -> 0 | AG28: =(AS45) -> 0 | AQ28: =DAY(AR28) -> 0 | AR28: =IF(I17-B17>365,(AR32),(B17)) -> 0 | AS28: =DATE(AS30,AR30,AS29) -> 1 | AT28: =IF(AS28>AR28,(1),(0)) -> 1 | AU28: 7 | AV28: 31 | BD28: 25 | BE28: 5
B29: FÉRIAS INDENIZADAS | L29: =L26 -> 0 | O29: =O26 -> 0 | T29: 13º SALARIO PAGO | AD29: - | AQ29: =MONTH(AR28) -> 1 | AR29: =DAY(I17) -> 0 | AS29: =IF(AR29>=15,(VLOOKUP(AR30,AU22:AV33,2,FALSE)),(1)) -> 1 | AU29: 8 | AV29: 31 | BC29: =VLOOKUP(BB22,AZ23:BC27,4,FALSE) -> 0.075 | BD29: 0 | BE29: 0
B30: 1/3 S/ FÉRIAS | L30: 01/03 | O30: =SUM(O27:S29)/3 -> 0 | T30: EMPRESTIMO 1 | AD30: - | AQ30: =YEAR(AR28) -> 1900 | AR30: =MONTH(I17) -> 1 | AS30: =YEAR(I17) -> 1900 | AU30: 9 | AV30: 30 | BC30: =VLOOKUP(BC22,AZ23:BC27,4,FALSE) -> 0.075
B31: HORA EXTRA | H31: =(I20) -> 0.5 | L31: =(M20) -> 0 | O31: =(P17 / 220) * 1.5 * (L31 * 24) -> 0 | T31: EMPRESTIMO 2 | AD31: - | AR31: =IF(AR32>AS28,(1),(0)) -> 0 | AS31: =(AS28-AR28) -> 1 | AU31: 10 | AV31: 31 | AZ31: 0 | BD31: 0
B32: =CONCATENATE("HORA EXTRA ",I22) -> HORA EXTRA | H32: 1 | L32: =(T20) -> 0 | O32: =(P17 / 220) * 2 * (L32 * 24) -> 0 | T32: EMPRESTIMO 3 | AD32: - | AQ32: =YEAR(I17) -> 1900 | AR32: =DATE(AQ33,AQ34,AQ35) -> 0 | AU32: 11 | AV32: 30 | AZ32: 1 | BA32: =(TABELAS!E15) -> 1372.81 | BC32: =(TABELAS!G15) -> 0 | BD32: 0
B33: AVISO PRÉVIO INDEN. | L33: =IF(J12="TÉRMINO DE CONTRATO DE TRABALHO A TERMO", 0, IF(AD17="INDENIZADO", 1, 0)) -> 0 | O33: =L33*P17 -> 0 | T33: - | AD33: - | AG33: 0 | AQ33: =(AQ32) -> 1900 | AR33: =IF(AS33<=14,(0),(IF(AS33<=30,(30),(AS33)))) -> 0 | AS33: =IF(AR31=1,(AS28-AS27),(AS28-AR28)) -> 1 | AT33: =(AT34-1) -> 1 | AU33: 12 | AV33: 31 | AZ33: 2 | BA33: =(TABELAS!E16) -> 2743.25 | BC33: =(TABELAS!G16) -> 0.15 | BD33: =(TABELAS!H16) -> 197.05
B34: DIAS EXTRAS AVIS. PREV. | L34: =IF(J12<>"DISPENSA DO EMPREGADO SEM JUSTA CAUSA", 0, TRUNC(W17/12, 0)*3) -> 0 | O34: =ROUND((P17/30)*L34,2) -> 0 | T34: - | AD34: - | AG34: 0 | AQ34: =MONTH(B17) -> 1 | AR34: =(AR33/30) -> 0 | AS34: =IF(AR34<=1,(1.01),(AR34)) -> 1.01 | AT34: =SEARCH(",",AQ36,1) -> 2 | AZ34: 3 | BA34: =(TABELAS!E17) -> 2743.25 | BC34: =(TABELAS!G17) -> 0.275 | BD34: =(TABELAS!H17) -> 525.19
T35: - | AD35: - | AG35: 0 | AQ35: =DAY(B17) -> 0 | AR35: =MID(AR34,1,2) -> 0 | AS35: =MID(AR34,1,AT33) -> 0 | AT35: =VALUE(AS35) -> 0
B36: TOTAL DE VENCIMENTOS | L36: =SUM(O23:S35) -> 0 | T36: TOTAL DE DESCONTOS | AD36: =SUM(AG23:AK35) -> 0 | AQ36: =(AR34+0.000001) -> 1e-06 | AS36: =(AS35+AS37) -> 1 | AT36: =(AT34)+1 -> 3 | BA36: =IF(BD41<BA32,(1),(IF(BD41<BA33,(2),IF(BD41>=BA34,(3),(0))))) -> 1 | BC36: =VLOOKUP(BA36,AZ31:BC34,4,FALSE) -> 0 | BD36: =VLOOKUP(BA36,AZ31:BD34,5,FALSE) -> 0
B37: TOTAL RESCISÃO | L37: =(L36-AD36) -> 0 | AR37: =(I20) -> 0.5 | AS37: =IF(AT37>50,(1),(0)) -> 1 | AT37: =MID(AR34,AT36,2)
AR38: =(P17/220) -> 0 | BA38: SEGURO | BD38: =(AQ25) -> 0
B39: CÁLCULO DE MULTA DO FGTS | AR39: =(AR38*AR37) -> 0 | BC39: Dep | BD39: =(TABELAS!F18*RESCISÃO!AH20) -> 0
B40: FGTS DEPOSITADO | K40: =(P17*0.08)*W17 -> 0 | AT40: 0.041666667 | BC40: INSS | BD40: =SUM(AG23:AK24) -> 0
B41: MULTA 40% FGTS | K41: =IF(J12<>"DISPENSA DO EMPREGADO SEM JUSTA CAUSA", 0, K40*40%) -> 0 | AR41: =SUM(AR38+AR39) -> 0 | AS41: =(AR38*2) -> 0 | AT41: =VALUE(AT40) -> 0.041666667 | BD41: =(BD38-BD39-BD40) -> 0
...

Sheet TABELAS
B2: IMPORTANTE: AS TABELAS DEVEM ESTAR ATUALIZADAS!
C5: I.N.S.S.
C6: DE | D6: 0.01 | E6: ATÉ | F6: 1518 | G6: ALÍQUOTA | H6: 0.075 | K6: 1
C7: DE | D7: 1518.01 | E7: ATÉ | F7: 2793.88 | G7: ALÍQUOTA | H7: 0.09 | K7: 2
C8: DE | D8: 2793.89 | E8: ATÉ | F8: 4190.83 | G8: ALÍQUOTA | H8: 0.12 | K8: 3
C9: DE | D9: 4190.84 | E9: ATÉ | F9: 8157.41 | G9: ALÍQUOTA | H9: 0.14 | K9: 4
C10: ACIMA DE | D10: 8157.42 | E10: ALÍQUOTA | F10: 318.37 | K10: 5
C13: IMPOSTO DE RENDA
C15: 0.01 | D15: ATÉ | E15: 1372.81 | F15: ALÍQUOTA | G15: 0 | H15: DEDUÇÃO | K15: 1
C16: 1372.82 | D16: ATÉ | E16: 2743.25 | F16: ALÍQUOTA | G16: 0.15 | H16: 197.05 | K16: 2
D17: ACIMA DE | E17: 2743.25 | F17: ALÍQUOTA | G17: 0.275 | H17: 525.19 | K17: 3
D18: DEDUÇÃO P/ DEPENDENTE | F18: 137.99
C21: SEGURO DESEMPREGO
C23: 0.01 | D23: ATÉ | E23: 685.06 | F23: ALÍQUOTA | G23: 0.8 | K23: 1
C24: =(E23+0.01) -> 685.07 | D24: ATÉ | E24: 1141.88 | F24: ALÍQUOTA | G24: 0.5 | K24: 2
D25: ACIMA DE | E25: 1141.89 | F25: VALOR FIXO | G25: 776.46 | K25: 3
